BEGIN:VCALENDAR
VERSION:2.0
PRODID:-//sumillerescatadorescanarios - ECPv6.15.20//NONSGML v1.0//EN
CALSCALE:GREGORIAN
METHOD:PUBLISH
X-ORIGINAL-URL:https://sumillerescatadorescanarios.org
X-WR-CALDESC:Eventos para sumillerescatadorescanarios
REFRESH-INTERVAL;VALUE=DURATION:PT1H
X-Robots-Tag:noindex
X-PUBLISHED-TTL:PT1H
BEGIN:VTIMEZONE
TZID:UTC
BEGIN:STANDARD
TZOFFSETFROM:+0000
TZOFFSETTO:+0000
TZNAME:UTC
DTSTART:20170101T000000
END:STANDARD
END:VTIMEZONE
BEGIN:VEVENT
DTSTART;TZID=UTC:20180430T180000
DTEND;TZID=UTC:20180430T200000
DTSTAMP:20260421T034930
CREATED:20180420T161707Z
LAST-MODIFIED:20180801T095256Z
UID:197-1525111200-1525118400@sumillerescatadorescanarios.org
SUMMARY:“Llanos Negros” de Bodegas Teneguía\, D.O. La Palma\, se presenta a los profesionales del vino y la restauración en una cata en la Cava Aguere
DESCRIPTION:El próximo 30 de abril de 2018\, en la Cava Aguere de La Laguna\, a las 18:00 hrs\, Carlos Lozano (enólogo de Bodegas Teneguía) y Juba Rufino (responsable de Harvest Distribuciones)\, llevarán a cabo una cata de los vinos Llanos Negros y Mission Grapes. La actividad\, gratuita y dirigida a profesionales\,  tiene límite de plazas (hasta 30 asistentes) y está organizada por Harvest Distribuciones\, La Cava de Aguere y la Asociación de Sumilleres y Catadores Canarios Catavinos. \nAquellos que quieran asistir\, pueden confirmar asistencia en   info@harvestdistribuciones.com
URL:https://sumillerescatadorescanarios.org/event/llanos-negros-de-bodegas-teneguia-d-o-la-palma-se-presenta-a-los-profesionales-del-vino-y-la-restauracion-en-una-cata-en-la-cava-aguere
LOCATION:Cava Aguere\, Calle Consistorio\, 15.\, San Cristobal De La Laguna\, Santa Cruz de Tenerife\, 38201\, España
ATTACH;FMTTYPE=image/gif:https://sumillerescatadorescanarios.org/wp-content/uploads/2018/04/cata_llanos_negros.gif
END:VEVENT
END:VCALENDAR