BEGIN:VCALENDAR
VERSION:2.0
PRODID:-//sumillerescatadorescanarios - ECPv6.15.20//NONSGML v1.0//EN
CALSCALE:GREGORIAN
METHOD:PUBLISH
X-WR-CALNAME:sumillerescatadorescanarios
X-ORIGINAL-URL:https://sumillerescatadorescanarios.org
X-WR-CALDESC:Eventos para sumillerescatadorescanarios
REFRESH-INTERVAL;VALUE=DURATION:PT1H
X-Robots-Tag:noindex
X-PUBLISHED-TTL:PT1H
BEGIN:VTIMEZONE
TZID:UTC
BEGIN:STANDARD
TZOFFSETFROM:+0000
TZOFFSETTO:+0000
TZNAME:UTC
DTSTART:20170101T000000
END:STANDARD
END:VTIMEZONE
BEGIN:VEVENT
DTSTART;VALUE=DATE:20180305
DTEND;VALUE=DATE:20180310
DTSTAMP:20260421T053739
CREATED:20180206T180353Z
LAST-MODIFIED:20180206T180353Z
UID:147-1520208000-1520639999@sumillerescatadorescanarios.org
SUMMARY:Embajadores de Vinos Canarios (II EDICIÓN)
DESCRIPTION:Durante los días del 5 al 9 de marzo de 2018\, se llevará a cabo la II Edición de «Embajadores de Vinos Canarios»\,  un programa que nace de una demanda de profesionales del sector que buscan información y formación sobre los excelentes productos enogastronómicos que se producen en Canarias\, con el objetivo de lograr la expansión comercial de esos productos anivel nacional e internacional. \nEL OBJETIVO DE ESTE PROYECTO SE BASA EN AGRUPAR DURANTE CINCO DÍAS AL MAYOR NÚMERO POSIBLE DE PROFESIONALES DEL MUNDO DEL VINO DE LAS ISLAS CANARIAS -ENÓLOGOS\, BODEGUEROS\, SUMILLERES-. ÉSTOS\, AMPARADOS POR LOS RESPECTIVOS CONSEJOS REGULADORES DE CADA UNA DE LAS DENOMINACIONES DE ORIGEN PROTEGIDA DE CANARIAS\, EXPONDRÁN SUS CONOCIMIENTOS Y EXPERIENCIAS DURANTE LOS DÍAS DEL 5 AL 9 DE MARZO DE 2018\, A LOS ASISTENTES A LA FORMACIÓN.
URL:https://sumillerescatadorescanarios.org/event/embajadores-de-vinos-canarios-ii-edicion
ATTACH;FMTTYPE=image/png:https://sumillerescatadorescanarios.org/wp-content/uploads/2018/02/embajadores.png
END:VEVENT
END:VCALENDAR